BEGIN:VCALENDAR
VERSION:2.0
PRODID:-//Scrumptious Buns Wedding Cakes &amp; Cake Decorating Courses, Norwich, Norfolk - ECPv5.1.4//NONSGML v1.0//EN
CALSCALE:GREGORIAN
METHOD:PUBLISH
X-WR-CALNAME:Scrumptious Buns Wedding Cakes &amp; Cake Decorating Courses, Norwich, Norfolk
X-ORIGINAL-URL:http://www.scrumptiousbunscakeschool.co.uk
X-WR-CALDESC:Events for Scrumptious Buns Wedding Cakes &amp; Cake Decorating Courses, Norwich, Norfolk
BEGIN:VTIMEZONE
TZID:Europe/London
BEGIN:DAYLIGHT
TZOFFSETFROM:+0000
TZOFFSETTO:+0100
TZNAME:BST
DTSTART:20150329T010000
END:DAYLIGHT
BEGIN:STANDARD
TZOFFSETFROM:+0100
TZOFFSETTO:+0000
TZNAME:GMT
DTSTART:20151025T010000
END:STANDARD
END:VTIMEZONE
BEGIN:VEVENT
DTSTART;TZID=Europe/London:20150626T101500
DTEND;TZID=Europe/London:20150626T170000
DTSTAMP:20260421T122724
CREATED:20150427T133415Z
LAST-MODIFIED:20150427T133415Z
UID:616-1435313700-1435338000@www.scrumptiousbunscakeschool.co.uk
SUMMARY:Ganache Your Cake!
DESCRIPTION:Ganache Your Cake\nFor more information or to book a place\, click here.\n
URL:http://www.scrumptiousbunscakeschool.co.uk/event/ganache-your-cake-3/
LOCATION:Scrumptious Buns Cake School\, 18 High Street\, Norwich\, Norfolk\, NR12 7DH\, United Kingdom
CATEGORIES:Classes
END:VEVENT
END:VCALENDAR